BEGIN:VCALENDAR
VERSION:2.0
PRODID:-//ملتقى - ECPv6.15.13.1//NONSGML v1.0//EN
CALSCALE:GREGORIAN
METHOD:PUBLISH
X-WR-CALNAME:ملتقى
X-ORIGINAL-URL:https://multaqa.me
X-WR-CALDESC:الأحداث في ملتقى
REFRESH-INTERVAL;VALUE=DURATION:PT1H
X-Robots-Tag:noindex
X-PUBLISHED-TTL:PT1H
BEGIN:VTIMEZONE
TZID:UTC
BEGIN:STANDARD
TZOFFSETFROM:+0000
TZOFFSETTO:+0000
TZNAME:UTC
DTSTART:20250101T000000
END:STANDARD
END:VTIMEZONE
BEGIN:VEVENT
DTSTART;TZID=UTC:20260420T090000
DTEND;TZID=UTC:20260422T170000
DTSTAMP:20260422T020337
CREATED:20260407T012524Z
LAST-MODIFIED:20260407T012524Z
UID:3404-1776675600-1776877200@multaqa.me
SUMMARY:مؤتمر مستقبل الطيران (Future Aviation Forum 2026)
DESCRIPTION:هو حدث دولي رفيع المستوى تستضيفه [الهيئة العامة للطيران المدني في السعودية] بالرياض، يجمع قادة الطيران العالمي، وصناع السياسات، والمستثمرين لمناقشة ابتكارات القطاع، تعزيز النمو الاقتصادي، وصياغة مستقبل السفر الجوي. يركز المؤتمر على الاستدامة، الابتكار، والتعاون العالمي.
URL:https://multaqa.me/event/%d9%85%d8%a4%d8%aa%d9%85%d8%b1-%d9%85%d8%b3%d8%aa%d9%82%d8%a8%d9%84-%d8%a7%d9%84%d8%b7%d9%8a%d8%b1%d8%a7%d9%86-future-aviation-forum-2026/
LOCATION:الرياض\, Saudi Arabia
CATEGORIES:المؤتمرات
ATTACH;FMTTYPE=image/jpeg:https://multaqa.me/wp-content/uploads/2026/04/wm8m6vjIj8YNTh1h1U2itm5i82Gbe0tRg7qxZ7u7.jpg
END:VEVENT
BEGIN:VEVENT
DTSTART;TZID=UTC:20260422T090000
DTEND;TZID=UTC:20260422T170000
DTSTAMP:20260422T020337
CREATED:20260406T233311Z
LAST-MODIFIED:20260406T233311Z
UID:3375-1776848400-1776877200@multaqa.me
SUMMARY:قمة قيادة المدراء الماليين (CFO Leadership Summit)
DESCRIPTION:قمة قيادة المدراء الماليين (CFO Leadership Summit) هي سلسلة مؤتمرات وفعاليات عالمية حصرية رفيعة المستوى، تجمع كبار المسؤولين الماليين (CFOs) وصناع القرار المالي لتبادل الخبرات، استكشاف تقنيات الجيل القادم، ومناقشة استراتيجيات النمو والتحول الرقمي.
URL:https://multaqa.me/event/%d9%82%d9%85%d8%a9-%d9%82%d9%8a%d8%a7%d8%af%d8%a9-%d8%a7%d9%84%d9%85%d8%af%d8%b1%d8%a7%d8%a1-%d8%a7%d9%84%d9%85%d8%a7%d9%84%d9%8a%d9%8a%d9%86-cfo-leadership-summit/
LOCATION:الرياض\, Saudi Arabia
CATEGORIES:القمم العالمية
ATTACH;FMTTYPE=image/webp:https://multaqa.me/wp-content/uploads/2026/04/1764770291778o4hz1zjvjo.webp
END:VEVENT
END:VCALENDAR